{"text_format":"1","workbook":"xlsx","n_sheets":18,"sheets":["т.1","т.2","2.1","т.2.2","т.3","т.4","т.4.1","т.4.2","т.5","т.6","т.6.1","т.7","т.8","т.8.1","т.9","т.9.1","т.10","т.11"],"not_rendered":{"charts":0,"images":0,"macros":1,"external_links":1,"defined_names":0,"comments":0,"pivot_tables":0},"unopened":[],"bounds":{"document_bytes":16777216,"sheet_cells":100000,"rows_first":2000,"rows_last":500,"rows_between":2000,"halvings":0,"cell_chars":16384,"cell_head_chars":4096},"cells_cut":0,"cells_raw":0,"read":"whole","date_system":"1900"}

{"sheet":"т.1","index":0,"n_rows":54,"n_cols":9,"rows_kept":54,"cut":false,"hidden":false,"merged":[[1,0,1,8],[4,2,4,4],[4,5,4,8],[5,5,5,6],[5,7,5,8],[2,0,2,8]]}
[null,null,null,null,null,null,null,null,"Таблица 1"]
["Количество населения и общедоступных библиотек "]
["Министерства культуры Республики Саха (Якутия)"]
[]
["№","ЦБС","Население ( чел. в тыс.)",null,null,"Количество библиотек"]
[null,null,"Всего","гор.","сельск.",2020,null,2021]
[null,null,null,null,null,"всего","из них в","всего","из них в"]
[null,null,null,null,null,null,"с/мест. ",null,"с/мест"]
[1,"Абыйская",{"$f":"D9+E9","v":3.9},2,1.9,7,5,7,5]
[2,"Аллаиховская",2.7,2.1,0.6,6,4,6,4]
[3,"Амгинская",16.8,null,16.8,16,16,16,16]
[4,"Анабарская",3.7,null,3.7,3,3,3,3]
[5,"Булунская",8.5,4.7,3.8,8,6,8,6]
[6,"Верхневилюйская",21.2,null,21.2,23,23,23,23]
[7,"Верхнеколымская",4,2.7,1.3,7,5,7,5]
[8,"Верхоянская",11,4.8,6.2,17,13,17,13]
[9,"Вилюйская",25.1,14,11.1,24,20,24,20]
[10,"Горная",12.3,null,12.3,9,9,9,9]
[11,"Жиганская",4.2,null,4.2,5,5,5,5]
[12,"Кобяйская",12,3.5,8.5,17,15,17,15]
[13,"Ленская",36.5,31.8,4.7,21,14,21,14]
[14,"Момская",4.0999999999999996,null,4.0999999999999996,7,7,7,7]
[15,"Намская",25.1,null,25.1,20,20,20,20]
[16,"Нижнеколымская",4.2,2.5,1.7,6,3,6,3]
[17,"Нюрбинская",23.700000000000003,9.8000000000000007,13.9,23,20,23,20]
[18,"Оймяконская",7.8999999999999995,5.0999999999999996,2.8,9,6,9,6]
[19,"Олекминская",24.4,9.1,15.3,27,25,27,25]
[20,"Оленекская",4.3,null,4.3,5,5,5,5]
[21,"Среднеколымская",7.3,3.5,3.8,11,9,11,9]
[22,"Сунтарская*",23.7,null,23.7,21,21,22,22]
[23,"Таттинская",16.3,null,16.3,15,15,15,15]
[24,"Томпонская",12.600000000000001,7.2,5.4,13,10,13,10]
[25,"Усть-Алданская",20.5,null,20.5,28,28,28,28]
[26,"Усть-Майская",7.2,5.2,2,10,5,10,5]
[27,"Усть-Янская",7,3.8,3.2,9,5,9,5]
[28,"Хангаласская",33,15.6,17.399999999999999,24,21,24,21]
[29,"Чурапчинская",21.1,null,21.1,19,19,19,19]
[30,"Мирнинская",71.900000000000006,69.5,2.4,11,3,11,3]
[31,"Нерюнгринская",74.899999999999991,73.8,1.1000000000000001,8,2,8,2]
[32,"Эвено-Бытантайская",2.9,null,2.9,3,3,3,3]
[33,"Якутская",347.20000000000005,330.6,16.600000000000001,18,4,18,4]
[34,"Алданская",38.799999999999997,34.799999999999997,4,9,5,9,5]
[35,"М.-Кангаласская",31.4,4.4000000000000004,27,31,30,31,30]
[36,"ГБ  г.Нерюнгри ",null,null,null,1,null,1]
[37,"Бердигестях ДБ",null,null,null,1,1,1,1]
[38,"Б-ка ГО \"п. Жатай\"",10.5,10.5,null,1,null,1]
[39,"Алданский БИЦ",null,null,null,2,1,2,1]
[40,"Томмотский БИЦ",null,null,null,3,1,3,1]
[null,"Итого по МБ",981.89999999999986,{"$f":"SUM(D9:D48)","v":650.99999999999989},330.90000000000003,498,407,499,408]
[null,"НБ РС(Я)",0,null,null,1,null,1]
[null,"Филиал НБ \"ДТК\"",0,null,null,1,null,1]
[null,"РБС",0,null,null,1,null,1]
[null,"Итого по РС(Я)",{"$f":"SUM(C49:C52)","v":981.89999999999986},650.99999999999989,330.90000000000003,501,407,502,408]
[null,"* - библиотеки, где прошла реорганизация"]

{"sheet":"т.2","index":1,"n_rows":51,"n_cols":8,"rows_kept":51,"cut":false,"hidden":false,"merged":[[1,0,1,7],[2,0,2,7],[4,2,4,4],[4,5,4,7]]}
[null,null,null,null,null,null,"Таблица 2"]
["Количество пользователей и процент охвата населения "]
["библиотечным обслуживанием"]
[]
["№","ЦБС","кол-во пользователей",null,null,"% охвата населения библ.обслуж."]
[null,null,2020,2021,"\"+  -\"",2020,2021,"\"+  -\""]
[1,"Абыйская",1805,2219,{"$f":"D7-C7","v":414},45.125,{"$f":"D7*100/т.1!C9/1000","v":56.897435897435898},{"$f":"G7-F7","v":11.772435897435898}]
[2,"Аллаиховская",755,1314,{"$f":"D8-C8","v":559},27.962962962962958,{"$f":"D8*100/т.1!C10/1000","v":48.666666666666664},{"$f":"G8-F8","v":20.703703703703706}]
[3,"Амгинская",7401,9468,2067,44.053571428571431,{"$f":"D9*100/т.1!C11/1000","v":56.357142857142854},12.303571428571423]
[4,"Анабарская",1870,1141,-729,50.54054054054054,{"$f":"D10*100/т.1!C12/1000","v":30.837837837837835},-19.702702702702705]
[5,"Булунская",5832,6917,1085,68.611764705882351,{"$f":"D11*100/т.1!C13/1000","v":81.376470588235307},12.764705882352956]
[6,"Верхневилюйская",8184,12911,4727,38.971428571428575,{"$f":"D12*100/т.1!C14/1000","v":60.900943396226417},21.929514824797842]
[7,"Верхнеколымская",3552,3103,-449,88.8,{"$f":"D13*100/т.1!C15/1000","v":77.575000000000003},-11.224999999999994]
[8,"Верхоянская",3703,5875,{"$f":"D14-C14","v":2172},33.36036036036036,{"$f":"D14*100/т.1!C16/1000","v":53.409090909090914},20.048730548730553]
[9,"Вилюйская",9657,8744,-913,38.628,{"$f":"D15*100/т.1!C17/1000","v":34.836653386454181},-3.7913466135458194]
[10,"Горная",5733,6298,565,57.5,57.5,0]
[11,"Жиганская",3841,3410,-431,93.682926829268297,{"$f":"D17*100/т.1!C19/1000","v":81.19047619047619},-12.492450638792107]
[12,"Кобяйская",8498,8961,463,70.231404958677686,{"$f":"D18*100/т.1!C20/1000","v":74.674999999999997},4.4435950413223111]
[13,"Ленская",9603,14515,4912,26.454545454545453,{"$f":"D19*100/т.1!C21/1000","v":39.767123287671232},13.312577833125779]
[14,"Момская",2080,2057,-23,52,{"$f":"D20*100/т.1!C22/1000","v":50.170731707317081},-1.8292682926829187]
[15,"Намская",6866,13156,6290,27.574297188755022,{"$f":"D21*100/т.1!C23/1000","v":52.414342629482064},24.840045440727042]
[16,"Нижнеколымская",2370,2282,-88,55.116279069767444,{"$f":"D22*100/т.1!C24/1000","v":54.333333333333329},-0.78294573643411525]
[17,"Нюрбинская",19248,19252,4,81.559322033898297,{"$f":"D23*100/т.1!C25/1000","v":81.232067510548518},-0.32725452334977945]
[18,"Оймяконская",2848,5947,3099,36.050632911392405,{"$f":"D24*100/т.1!C26/1000","v":75.278481012658233},39.227848101265828]
[19,"Олекминская",8096,11021,2925,33.044897959183679,{"$f":"D25*100/т.1!C27/1000","v":45.168032786885249},12.12313482770157]
[20,"Оленекская",3155,3158,3,75.11904761904762,{"$f":"D26*100/т.1!C28/1000","v":73.441860465116278},-1.6771871539313423]
[21,"Среднеколымская",4194,4591,397,57.452054794520549,{"$f":"D27*100/т.1!C29/1000","v":62.890410958904113},5.4383561643835634]
[22,"Сунтарская*",14622,15679,1057,62.487179487179489,{"$f":"D28*100/т.1!C30/1000","v":66.156118143459906},3.6689386562804174]
[23,"Таттинская",9404,7324,-2080,58.049382716049379,{"$f":"D29*100/т.1!C31/1000","v":44.932515337423311},-13.116867378626068]
[24,"Томпонская",6266,6632,366,50.128,{"$f":"D30*100/т.1!C32/1000","v":52.634920634920626},2.5069206349206254]
[25,"Усть-Алданская",19659,20005,346,95.89756097560975,{"$f":"D31*100/т.1!C33/1000","v":97.585365853658544},1.6878048780487944]
[26,"Усть-Майская",4975,5024,49,66.333333333333329,{"$f":"D32*100/т.1!C34/1000","v":69.777777777777786},3.4444444444444571]
[27,"Усть-Янская",4056,3786,-270,57.942857142857143,{"$f":"D33*100/т.1!C35/1000","v":54.085714285714282},-3.8571428571428612]
[28,"Хангаласская",22365,31587,9222,68.185975609756099,{"$f":"D34*100/т.1!C36/1000","v":95.718181818181819},27.53220620842572]
[29,"Чурапчинская",9554,9977,423,45.495238095238093,{"$f":"D35*100/т.1!C37/1000","v":47.284360189573455},1.7891220943353616]
[30,"Мирнинская",14307,17022,2715,19.815789473684209,{"$f":"D36*100/т.1!C38/1000","v":23.674547983310152},3.8587585096259431]
[31,"Нерюнгринская",13145,13145,0,30.4,30.4,0]
[32,"Эвено-Бытантай",970,1425,{"$f":"D38-C38","v":455},34.642857142857146,{"$f":"D38*100/т.1!C40/1000","v":49.137931034482762},{"$f":"G38-F38","v":14.495073891625616}]
[33,"Якутская",34180,61159,26979,10.061819252281424,{"$f":"D39*100/т.1!C41/1000","v":17.614919354838708},7.5531001025572841]
[34,"Алданская",8634,7791,{"$f":"D40-C40","v":-843},39.6,39.6,{"$f":"G40-F40","v":0}]
[35,"М.-Кангаласская",14898,16360,1462,48.213592233009706,{"$f":"D41*100/т.1!C43/1000","v":52.101910828025481},{"$f":"G41-F41","v":3.8883185950157753}]
[36,"ГБ г.Нерюнгри",6802,8449,1647]
[37,"Бердигестях ДБ",1225,1449,224]
[38,"Б-ка ГО \"п. Жатай\"",1573,2746,1173,15.3,{"$f":"D44*100/т.1!C46/1000","v":26.152380952380955},10.852380952380955]
[39,"Алданский БИЦ",3105,3565,460]
[40,"Томмотский БИЦ",3758,4804,1046]
[null,"Итого по МБ",{"$f":"SUM(C7:C46)","v":312789},{"$f":"SUM(D7:D46)","v":384269},{"$f":"SUM(E7:E46)","v":71480},32.200000000000003,{"$f":"D47*100/т.1!C49/1000","v":39.135247988593548},{"$f":"G47-F47","v":6.9352479885935452}]
[null,"НБ РС(Я)",29402,36464,{"$f":"D48-C48","v":7062}]
[null,"Филиал НБ \"ДТК\"",5415,8069,{"$f":"D49-C49","v":2654}]
[null,"РБС",2256,2270,{"$f":"D50-C50","v":14}]
[null,"Итого по РС(Я)",{"$f":"SUM(C47:C50)","v":349862},{"$f":"SUM(D47:D50)","v":431072},{"$f":"SUM(E47:E50)","v":81210},36,{"$f":"D51*100/т.1!C53/1000","v":43.9018229962318},{"$f":"G51-F51","v":7.9018229962318003}]

{"sheet":"2.1","index":2,"n_rows":50,"n_cols":9,"rows_kept":50,"cut":false,"hidden":false,"merged":[[1,0,1,8],[3,3,3,5],[3,6,4,6],[3,7,4,7],[3,0,4,0],[3,1,4,1]]}
[null,null,null,null,null,null,null,null,"Таблица 2.1"]
["Количество пользователей "]
[]
["№","ЦБС","всего","из них пользователей, обслуженных в стационарных условиях ",null,null,"из них во внестац. условиях","из них удал. польз.","Читаемость"]
[null,null,null,"всего","до 14 лет","от 15-30"]
[1,"Абыйская",2219,1657,271,142,562,null,{"$f":"т.6!D5/т.2!D7","v":17.342947273546642}]
[2,"Аллаиховская",1314,1085,405,169,229,null,{"$f":"т.6!D6/т.2!D8","v":33.474885844748862}]
[3,"Амгинская",9468,6850,2431,1359,1878,740,{"$f":"т.6!D7/т.2!D9","v":14.491656104773975}]
[4,"Анабарская",1141,988,331,123,153,null,{"$f":"т.6!D8/т.2!D10","v":18.493426818580193}]
[5,"Булунская",6917,5826,1379,1638,1091,null,{"$f":"т.6!D9/т.2!D11","v":22.535347694087033}]
[6,"Верхневилюйская",12911,10593,3495,2547,2309,9,{"$f":"т.6!D10/т.2!D12","v":22.667647742235303}]
[7,"Верхнеколымская",3103,2230,779,407,860,13,{"$f":"т.6!D11/т.2!D13","v":34.493071221398644}]
[8,"Верхоянская",5875,5417,1511,987,458,null,{"$f":"т.6!D12/т.2!D14","v":20.308936170212768}]
[9,"Вилюйская",8744,8607,2634,1992,137,null,{"$f":"т.6!D13/т.2!D15","v":21.515896614821592}]
[10,"Горная",6298,4633,1228,1197,942,723,{"$f":"т.6!D14/т.2!D16","v":23.58272467449984}]
[11,"Жиганская",3410,2876,625,365,386,148,{"$f":"т.6!D15/т.2!D17","v":16.409970674486804}]
[12,"Кобяйская",8961,6434,2453,1448,2483,44,{"$f":"т.6!D16/т.2!D18","v":16.679500055797345}]
[13,"Ленская",14515,9336,4397,1650,5001,178,{"$f":"т.6!D17/т.2!D19","v":21.611229762314846}]
[14,"Момская",2057,1817,481,337,240,null,{"$f":"т.6!D18/т.2!D20","v":14.793388429752065}]
[15,"Намская",13156,10868,3833,2652,2171,117,{"$f":"т.6!D19/т.2!D21","v":17.268850714502889}]
[16,"Нижнеколымская",2282,2282,789,633,null,null,{"$f":"т.6!D20/т.2!D22","v":20.95749342681858}]
[17,"Нюрбинская",19252,9261,2750,1930,9991,null,{"$f":"т.6!D21/т.2!D23","v":9.8632869312279237}]
[18,"Оймяконская",5947,4631,1347,900,1316,null,{"$f":"т.6!D22/т.2!D24","v":17.160417016983352}]
[19,"Олекминская",11021,9626,4241,1777,1395,null,{"$f":"т.6!D23/т.2!D25","v":17.235278105435079}]
[20,"Оленекская",3158,2293,892,235,808,57,{"$f":"т.6!D24/т.2!D26","v":12.104496516782774}]
[21,"Среднеколымская",4591,2582,604,755,2009,null,{"$f":"т.6!D25/т.2!D27","v":12.298409932476584}]
[22,"Сунтарская*",15679,12439,3789,3301,2997,243,{"$f":"т.6!D26/т.2!D28","v":15.533898845589642}]
[23,"Таттинская",7324,4609,2004,1070,2499,216,{"$f":"т.6!D27/т.2!D29","v":20.988530857454943}]
[24,"Томпонская",6632,5967,2324,1470,534,131,{"$f":"т.6!D28/т.2!D30","v":20.956272617611582}]
[25,"Усть-Алданская",20005,11825,4762,2576,8180,null,{"$f":"т.6!D29/т.2!D31","v":19.617345663584103}]
[26,"Усть-Майская",5024,4058,1550,1152,966,null,{"$f":"т.6!D30/т.2!D32","v":29.987858280254777}]
[27,"Усть-Янская",3786,3185,1150,999,601,null,{"$f":"т.6!D31/т.2!D33","v":11.968040147913365}]
[28,"Хангаласская",31587,11259,3962,1996,2048,18280,{"$f":"т.6!D32/т.2!D34","v":9.5607053534681992}]
[29,"Чурапчинская",9977,8147,2307,1589,1731,99,{"$f":"т.6!D33/т.2!D35","v":17.502154956399718}]
[30,"Мирнинская",17022,16783,5659,3575,209,30,{"$f":"т.6!D34/т.2!D36","v":20.207613676418752}]
[31,"Нерюнгринская",13145,11977,3670,2989,618,550,{"$f":"т.6!D35/т.2!D37","v":23.045492582731075}]
[32,"Эвено-Бытантайская",1425,1080,433,170,345,null,{"$f":"т.6!D36/т.2!D38","v":27.033684210526317}]
[33,"Якутская",61159,54649,19185,13133,6283,227,{"$f":"т.6!D37/т.2!D39","v":20.898134371065584}]
[34,"Алданская",7791,6099,1397,1376,1277,415,{"$f":"т.6!D38/т.2!D40","v":15.83840328584264}]
[35,"М.-Кангаласская",16360,12761,4290,1610,3599,null,{"$f":"т.6!D39/т.2!D41","v":13.065097799511003}]
[36,"ГБ г.Нерюнгри ",8449,8148,3294,1618,55,246,{"$f":"т.6!D40/т.2!D42","v":17.433424073854894}]
[37," Бердигестях ДБ",1449,1175,1036,139,211,63,{"$f":"т.6!D41/т.2!D43","v":9.0641821946169774}]
[38,"Б-ка ГО \"п. Жатай\"",2746,2497,1103,232,32,217,{"$f":"т.6!D42/т.2!D44","v":18.308448652585579}]
[39,"Алданский БИЦ",3565,3006,1773,657,559,null,{"$f":"т.6!D43/т.2!D45","v":20.381206171107994}]
[40,"Томмотский БИЦ",4804,4244,1850,651,560,null,{"$f":"т.6!D44/т.2!D46","v":24.663821815154037}]
[null,"Итого по МБ",{"$f":"SUM(C6:C45)","v":384269},293800,102414,63546,67723,22746,{"$f":"т.6!D45/т.2!D47","v":18.10521015226313}]
[null,"НБ РС(Я)",36464,16001,null,9715,1394,19069,{"$f":"т.6!D46/т.2!D48","v":45.801941641070648}]
[null,"Филиал НБ \"ДТК\"",8069,5504,4635,869,2565,null,{"$f":"т.6!D47/т.2!D49","v":23.922419134960961}]
[null,"РБС",2270,549,52,53,1454,267,{"$f":"т.6!D48/т.2!D50","v":40.020264317180619}]
[null,"ВСЕГО ",{"$f":"SUM(C46:C49)","v":431072},315854,107101,74183,73136,42082,{"$f":"т.6!D49/т.2!D51","v":20.672344759112168}]

{"sheet":"т.2.2","index":3,"n_rows":46,"n_cols":8,"rows_kept":46,"cut":false,"hidden":false,"merged":[[1,0,1,7],[3,6,6,6],[3,7,6,7],[3,0,6,0],[3,1,6,1],[3,2,6,2],[3,3,3,5],[4,3,6,3],[4,4,6,4],[4,5,6,5]]}
[null,null,null,null,null,null,"Таблица 2.2 "]
["Количество пользователей в сельской местности"]
[]
["№","ЦБС","всего из общего числа в с/местн.","из них пользователей, обслуженных в стенах библиотеки ",null,null,"из них во внестац.","из них удал. польз"]
[null,null,null,"всего","до 14 лет","от 15-30"]
[]
[]
[1,"Абыйская",699,370,116,70,329]
[2,"Аллаиховская",276,247,89,57,29]
[3,"Амгинская",9468,6850,2431,1359,1878,740]
[4,"Анабарская",1141,988,331,123,153]
[5,"Булунская",2262,1822,606,616,440]
[6,"Верхневилюйская",12911,10593,3495,2547,2309,9]
[7,"Верхнеколымская",1107,642,222,126,465]
[8,"Верхоянская",2802,2517,748,485,285]
[9,"Вилюйская",4419,4300,1249,883,119]
[10,"Горная",6298,4633,1228,1197,942,723]
[11,"Жиганская",3410,2876,625,365,386,148]
[12,"Кобяйская",4183,2569,818,521,1614]
[13,"Ленская",2258,1957,752,268,301]
[14,"Момская",2057,1817,481,337,240]
[15,"Намская",13156,10868,3833,2652,2171,117]
[16,"Нижнеколымская",528,528,171,156]
[17,"Нюрбинская",9321,5974,1975,1003,3347]
[18,"Оймяконская",1970,1475,462,369,495]
[19,"Олекминская",6449,5493,1688,996,956]
[20,"Оленекская",3158,2293,892,235,808,57]
[21,"Среднеколымская",2758,1463,400,465,1295]
[22,"Сунтарская*",15679,12439,3789,3301,2997,243]
[23,"Таттинская",7324,4609,2004,1070,2499,216]
[24,"Томпонская",3240,2854,937,753,386]
[25,"Усть-Алданская",20005,11825,4762,2576,8180]
[26,"Усть-Майская",1253,1183,374,194,70]
[27,"Усть-Янская",1830,1621,497,534,209]
[28,"Хангаласская",8481,5777,1442,1079,1828,876]
[29,"Чурапчинская",9977,8147,2307,1589,1731,99]
[30,"Мирнинская",448,413,187,97,35]
[31,"Нерюнгринская",935,796,287,177,139]
[32,"Эвено-Бытантайская",1425,1080,433,170,345]
[33,"Якутская",6207,6042,2649,1058,165]
[34,"Алданская",848,486,249,93,362]
[35,"М.-Кангаласская",15330,12071,4031,1581,3259]
[36,"Бердигестях ДБ",1449,1175,1036,139,211,63]
[37,"Алданский БИЦ",59,59,14,12]
[38,"Томмотский БИЦ",140,123,31,32,17]
[null,"Итого по РС(Я)",{"$f":"SUM(C8:C45)","v":185261},140975,47641,29285,40995,3291]

{"sheet":"т.3","index":4,"n_rows":50,"n_cols":8,"rows_kept":50,"cut":false,"hidden":false,"merged":[[1,0,1,7],[3,2,3,4],[3,5,3,7]]}
[null,null,null,null,null,null,"Таблица 3"]
["Число посещений. Посещаемость"]
[]
["№","ЦБС","Число посещений",null,null,"Посещаемость"]
[null,null,2020,2021,"\"+  -\"",2020,2021,"\"+  -\""]
[1,"Абыйская",18620,13874,{"$f":"D6-C6","v":-4746},10.3,{"$f":"т.3!D6/т.2!D7","v":6.2523659305993693},{"$f":"G6 - F6","v":-4.0476340694006314}]
[2,"Аллаиховская",3714,12679,{"$f":"D7-C7","v":8965},4.9000000000000004,{"$f":"т.3!D7/т.2!D8","v":9.6491628614916287},4.7491628614916284]
[3,"Амгинская",56445,61810,5365,7.6,{"$f":"т.3!D8/т.2!D9","v":6.5283058724123366},-1.071694127587663]
[4,"Анабарская",5681,6266,585,3,{"$f":"т.3!D9/т.2!D10","v":5.4916739702015773},2.4916739702015773]
[5,"Булунская",40611,79157,38546,7,{"$f":"т.3!D10/т.2!D11","v":11.44383403209484},4.4438340320948395]
[6,"Верхневилюйская",64181,126517,62336,7.8,{"$f":"т.3!D11/т.2!D12","v":9.7991635039888472},1.9991635039888473]
[7,"Верхнеколымская",27119,35374,8255,7.6,{"$f":"т.3!D12/т.2!D13","v":11.399935546245569},3.7999355462455693]
[8,"Верхоянская",32114,67801,35687,8.6999999999999993,{"$f":"т.3!D13/т.2!D14","v":11.540595744680852},2.8405957446808525]
[9,"Вилюйская",74032,71073,-2959,7.7,{"$f":"т.3!D14/т.2!D15","v":8.128202195791399},0.42820219579139884]
[10,"Горная",36624,59767,23143,6.4,{"$f":"т.3!D15/т.2!D16","v":9.4898380438234362},3.0898380438234359]
[11,"Жиганская",21386,25548,4162,5.6,{"$f":"т.3!D16/т.2!D17","v":7.4920821114369502},1.8920821114369506]
[12,"Кобяйская",77927,92126,14199,9.1999999999999993,{"$f":"т.3!D17/т.2!D18","v":10.280772235241603},1.0807722352416036]
[13,"Ленская",70112,122242,52130,7.3,{"$f":"т.3!D18/т.2!D19","v":8.4217705821563893},1.1217705821563895]
[14,"Момская",17252,14417,-2835,8.3000000000000007,{"$f":"т.3!D19/т.2!D20","v":7.0087506076810886},-1.2912493923189121]
[15,"Намская",51697,103118,51421,7.5,{"$f":"т.3!D20/т.2!D21","v":7.838096685922773},0.33809668592277298]
[16,"Нижнеколымская",13730,16872,3142,5.8,{"$f":"т.3!D21/т.2!D22","v":7.3935144609991239},1.5935144609991241]
[17,"Нюрбинская",70382,76024,5642,3.7,{"$f":"т.3!D22/т.2!D23","v":3.9488884271763971},0.24888842717639692]
[18,"Оймяконская",28738,57374,28636,10.1,{"$f":"т.3!D23/т.2!D24","v":9.64755338826299},-0.45244661173700962]
[19,"Олекминская",64415,91444,27029,8,{"$f":"т.3!D24/т.2!D25","v":8.2972507032029768},0.29725070320297675]
[20,"Оленекская",10392,23533,13141,3.3,{"$f":"т.3!D25/т.2!D26","v":7.4518682710576316},4.1518682710576318]
[21,"Среднеколымская",16029,39062,23033,3.8,{"$f":"т.3!D26/т.2!D27","v":8.5083859725549988},4.708385972554999]
[22,"Сунтарская*",86499,107896,21397,5.9,{"$f":"т.3!D27/т.2!D28","v":6.8815613240640348},0.9815613240640344]
[23,"Таттинская",63284,57973,-5311,6.7,{"$f":"т.3!D28/т.2!D29","v":7.9154833424358273},1.2154833424358271]
[24,"Томпонская",44870,80804,35934,7.2,{"$f":"т.3!D29/т.2!D30","v":12.183956574185766},4.9839565741857657]
[25,"Усть-Алданская",202226,210112,7886,10.3,{"$f":"т.3!D30/т.2!D31","v":10.502974256435891},0.20297425643589051]
[26,"Усть-Майская",63592,73041,9449,12.8,{"$f":"т.3!D31/т.2!D32","v":14.538415605095542},1.7384156050955415]
[27,"Усть-Янская",29469,29669,200,7.3,{"$f":"т.3!D32/т.2!D33","v":7.8365029054410984},0.53650290544109858]
[28,"Хангаласская",86721,115801,29080,3.9,{"$f":"т.3!D33/т.2!D34","v":3.666096811979612},-0.2339031880203879]
[29,"Чурапчинская",76758,67067,-9691,8,{"$f":"т.3!D34/т.2!D35","v":6.7221609702315321},-1.2778390297684679]
[30,"Мирнинская",97387,117680,20293,6.8,{"$f":"т.3!D35/т.2!D36","v":6.9134061802373399},0.11340618023734006]
[31,"Нерюнгринская",76055,92498,16443,5.8,{"$f":"т.3!D36/т.2!D37","v":7.0367440091289462},1.2367440091289463]
[32,"Эвено-Бытантай",6362,17785,11423,6.6,{"$f":"т.3!D37/т.2!D38","v":12.480701754385965},5.8807017543859654]
[33,"Якутская",394540,422356,27816,11.5,{"$f":"т.3!D38/т.2!D39","v":6.9058683104694323},-4.5941316895305677]
[34,"Алданская",106199,83037,{"$f":"D39-C39","v":-23162},12.3,{"$f":"т.3!D39/т.2!D40","v":10.65806700038506},{"$f":"G39 - F39","v":-1.6419329996149408}]
[35,"М.-Кангаласская",104471,77475,{"$f":"D40-C40","v":-26996},7,{"$f":"т.3!D40/т.2!D41","v":4.7356356968215163},{"$f":"G40 - F40","v":-2.2643643031784837}]
[36,"ГБ г.Нерюнгри ",50258,60458,10200,7.4,{"$f":"т.3!D41/т.2!D42","v":7.1556397206770033},-0.24436027932299709]
[37,"Бердигестях ДБ",12547,5687,-6860,10.199999999999999,{"$f":"т.3!D42/т.2!D43","v":3.924775707384403},-6.2752242926155963]
[38,"Б-ка ГО \"п. Жатай\"",12462,18135,5673,7.9,{"$f":"т.3!D43/т.2!D44","v":6.6041514930808445},-1.2958485069191559]
[39,"Алданский БИЦ",25411,37951,{"$f":"D44-C44","v":12540},8.1999999999999993,{"$f":"т.3!D44/т.2!D45","v":10.645441795231417},{"$f":"G44 - F44","v":2.4454417952314174}]
[40,"Томмотский БИЦ",29186,56674,27488,7.7,{"$f":"т.3!D45/т.2!D46","v":11.797252289758534},4.0972522897585337]
[null,"Итого по МБ",{"$f":"SUM(C6:C45)","v":2369498},{"$f":"SUM(D6:D45)","v":2928177},558679,7.6,{"$f":"т.3!D46/т.2!D47","v":7.6201228826681309},2.0122882668131226E-2]
[null,"НБ РС(Я)",84118,381450,297332,2.9,{"$f":"т.3!D47/т.2!D48","v":10.461002632733654},7.5610026327336541]
[null,"Филиал НБ \"ДТК\"",21431,64194,42763,4,{"$f":"т.3!D48/т.2!D49","v":7.9556326682364604},3.9556326682364604]
[null,"РБС",17456,12317,-5139,7.7,{"$f":"т.3!D49/т.2!D50","v":5.4259911894273127},-2.2740088105726874]
[null,"Итого по РС(Я)",{"$f":"SUM(C46:C49)","v":2492503},{"$f":"SUM(D46:D49)","v":3386138},{"$f":"SUM(E46:E49)","v":893635},7.1,{"$f":"т.3!D50/т.2!D51","v":7.8551564471828375},{"$f":"G50-F50","v":0.75515644718283781}]

{"sheet":"т.4","index":5,"n_rows":50,"n_cols":9,"rows_kept":50,"cut":false,"hidden":false,"merged":[[2,0,2,8],[3,6,3,7],[1,0,1,8]]}
[null,null,null,null,null,null,null,null,"Таблица 4"]
["Движение библиотечного фонда"]
[]
[null,null,"Сост. на ","Поступило",null,null,"Выбыло",null,"Сост. на"]
["№","ЦБС","2021-01-01","всего (экз)","из них вновь приобрет. (экз).","фонд реорг. б-к","(экз.)","из них без учета фонда р/б","2022-01-01"]
[1,"Абыйская",81808,1114,1104,null,4758,4758,{"$f":"C6+D6+F6-G6","v":78164}]
[2,"Аллаиховская",77061,1393,1393,null,null,null,{"$f":"C7+D7+F7-G7","v":78454}]
[3,"Амгинская",190955,5585,5583,null,8970,8970,187570]
[4,"Анабарская",24368,993,993,null,417,417,24944]
[5,"Булунская",146533,2058,2058,null,918,918,147673]
[6,"Верхневилюйская",233896,6180,6180,null,9012,9012,231064]
[7,"Верхнеколымская",110947,2955,2955,null,4338,4338,109564]
[8,"Верхоянская",216167,7318,7318,null,7060,7060,216425]
[9,"Вилюйская",265220,6813,6813,null,2359,2359,269674]
[10,"Горная",101221,2418,2418,null,1558,1558,102081]
[11,"Жиганская",54842,2600,2600,null,1098,1098,56344]
[12,"Кобяйская",196431,4674,4674,null,3904,3904,197201]
[13,"Ленская",203340,11634,11634,null,7302,7302,207672]
[14,"Момская",86252,1083,1083,null,1034,1034,86301]
[15,"Намская",209457,6636,6636,null,14410,14410,201683]
[16,"Нижнеколымская",99891,1357,1357,null,1268,1268,99980]
[17,"Нюрбинская",326880,3633,3633,null,405,405,330108]
[18,"Оймяконская",115881,1352,1352,null,null,null,117233]
[19,"Олекминская",280436,4373,4283,null,18088,18088,266721]
[20,"Оленекская",54746,1382,1382,null,414,414,55714]
[21,"Среднеколымская",122548,4885,4885,null,1610,1610,125823]
[22,"Сунтарская*",231019,15773,14828,25895,40599,14704,232088]
[23,"Таттинская",210926,3776,3776,null,5335,5335,209367]
[24,"Томпонская",174637,2921,2921,null,2921,2921,174637]
[25,"Усть-Алданская",414605,11461,11461,null,18992,18992,407074]
[26,"Усть-Майская",127325,4094,4094,null,3853,3853,127566]
[27,"Усть-Янская",171004,375,375,null,null,null,171379]
[28,"Хангаласская",331213,9911,9911,null,24616,24616,316508]
[29,"Чурапчинская",272975,7141,7141,null,4961,4961,275155]
[30,"Мирнинская",240813,6085,6085,null,16963,16963,229935]
[31,"Нерюнгринская",140166,5821,5786,null,3235,3235,142752]
[32,"Эвено-Бытантайская",42323,157,157,null,null,null,42480]
[33,"Якутская",459344,27277,20847,null,24659,24659,461962]
[34,"Алданская",118762,9922,9922,null,5381,5381,123303]
[35,"Мегино-Кангаласская",455521,6925,6869,null,1882,1882,460564]
[36,"ГБ г.Нерюнгри ",112017,2786,2786,null,3776,3776,111027]
[37,"Бердигестях ДБ",15762,944,944,null,null,null,16706]
[38,"Б-ка ГО \"п. Жатай\"",20776,200,200,null,96,96,20880]
[39,"Алданский БИЦ",34542,781,781,null,739,739,34584]
[40,"Томмотский БИЦ",41353,1801,1801,null,2712,2712,40442]
[null,"Итого по МБ",{"$f":"SUM(C6:C45)","v":6813963},198587,191019,25895,249643,223748,6788802]
[null,"НБ РС(Я)",1655678,26000,26000,null,null,null,1681678]
[null,"Филиал НБ \"ДТК\"",171027,1417,1417,null,null,null,172444]
[null,"РБС",145578,4000,4000,null,1015,1015,148563]
[null,"Итого по РС(Я)",{"$f":"SUM(C46:C49)","v":8786246},230004,222436,25895,250658,224763,8791487]

{"sheet":"т.4.1","index":6,"n_rows":49,"n_cols":7,"rows_kept":49,"cut":false,"hidden":false,"merged":[[1,0,1,6]]}
[null,null,null,null,null,null,"Таблица 4.1 "]
["Библиотечный фонд "]
[]
["№","ЦБС",2020,2021,"\"+  -\"","в городе","в сельск. местн."]
[1,"Абыйская",81808,78164,{"$f":"D5-C5","v":-3644},{"$f":" D5-G5","v":34720},43444]
[2,"Аллаиховская",77061,78454,{"$f":"D6-C6","v":1393},{"$f":" D6-G6","v":48277},30177]
[3,"Амгинская",190955,187570,-3385,{"$f":" D7-G7","v":0},187570]
[4,"Анабарская",24368,24944,576,{"$f":" D8-G8","v":0},24944]
[5,"Булунская",146533,147673,1140,68747,78926]
[6,"Верхневилюйская",233896,231064,-2832,0,231064]
[7,"Верхнеколымская",110947,109564,-1383,63000,46564]
[8,"Верхоянская",216167,216425,258,91270,125155]
[9,"Вилюйская",265220,269674,4454,88354,181320]
[10,"Горная",101221,102081,860,0,102081]
[11,"Жиганская",54842,56344,1502,0,56344]
[12,"Кобяйская",196431,197201,770,48291,148910]
[13,"Ленская",203340,207672,4332,119633,88039]
[14,"Момская",86252,86301,49,0,86301]
[15,"Намская",209457,201683,-7774,0,201683]
[16,"Нижнеколымская",99891,99980,89,69403,30577]
[17,"Нюрбинская",326880,330108,3228,87417,242691]
[18,"Оймяконская",115881,117233,1352,43043,74190]
[19,"Олекминская",280436,266721,-13715,65264,201457]
[20,"Оленекская",54746,55714,968,0,55714]
[21,"Среднеколымская",122548,125823,3275,51851,73972]
[22,"Сунтарская*",231019,232088,1069,0,232088]
[23,"Таттинская",210926,209367,-1559,0,209367]
[24,"Томпонская",174637,174637,0,73680,100957]
[25,"Усть-Алданская",414605,407074,-7531,0,407074]
[26,"Усть-Майская",127325,127566,241,83094,44472]
[27,"Усть-Янская",171004,171379,375,84788,86591]
[28,"Хангаласская",331213,316508,-14705,111882,204626]
[29,"Чурапчинская",272975,275155,2180,0,275155]
[30,"Мирнинская",240813,229935,-10878,195290,34645]
[31,"Нерюнгринская",140166,142752,2586,119628,23124]
[32,"Эвено-Бытантайская",42323,42480,157,0,42480]
[33,"Якутская",459344,461962,{"$f":"D37-C37","v":2618},{"$f":" D37-G37","v":400183},61779]
[34,"Алданская",118762,123303,{"$f":"D38-C38","v":4541},86988,36315]
[35,"Мегино-Кангаласская",455521,460564,{"$f":"D39-C39","v":5043},13883,446681]
[36,"ГБ г.Нерюнгри ",112017,111027,-990,111027,0]
[37,"Бердигестях ДБ",15762,16706,null,0,16706]
[38,"Б-ка ГО \"п. Жатай\"",20776,20880,{"$f":"D42-C42","v":104},20880,0]
[39,"Алданский БИЦ",34542,34584,null,{"$f":" D43-G43","v":27869},6715]
[40,"Томмотский БИЦ",41353,40442,null,35046,5396]
[null,"Итого по МБ",{"$f":"SUM(C5:C44)","v":6813963},{"$f":"SUM(D5:D44)","v":6788802},-25161,{"$f":"SUM(F5:F44)","v":2243508},{"$f":"SUM(G5:G44)","v":4545294}]
[null,"НБ РС(Я)",1655678,1681678,26000,1681678,0]
[null,"Филиал НБ \"ДТК\"",171027,172444,1417,172444,0]
[null,"РБС",145578,148563,2985,148563,0]
[null,"Итого по РС(Я)",{"$f":"SUM(C45:C48)","v":8786246},{"$f":"SUM(D45:D48)","v":8791487},5241,{"$f":"SUM(F45:F48)","v":4246193},{"$f":"SUM(G45:G48)","v":4545294}]

{"sheet":"т.4.2","index":7,"n_rows":51,"n_cols":12,"rows_kept":51,"cut":false,"hidden":false,"merged":[[2,0,2,10],[3,4,3,6],[3,8,4,8],[1,0,1,11]]}
[null,null,null,null,null,null,null,null,null,"Таблица 4.2"]
["Новые поступления в библиотечный фонд (экз.)"]
[]
[null,null,null,null,"в том числе",null,null,null,"спец.","на яз.","на"]
["№","ЦБС",2020,2021,"печ.изд.","из них","эл.док.","док. на",null,"нар.РФ","иностр.","\"+  -\""]
[null,null,null,null,"неопуб.","книг","съемн","др.вид.","док.","кр.рус.яз.","яз."]
[1,"Абыйская",1876,1104,1102,603,2,null,null,286,null,{"$f":"D7-C7","v":-772}]
[2,"Аллаиховская",774,1393,1393,1195,null,null,null,373,null,619]
[3,"Амгинская",7832,5583,5520,2711,63,null,null,2110,1,-2249]
[4,"Анабарская",1004,993,993,904,null,null,null,175,null,-11]
[5,"Булунская",2128,2058,2058,1860,null,null,null,524,null,-70]
[6,"Верхневилюйская",6162,6180,6175,4181,5,null,null,3290,1,18]
[7,"Верхнеколымская",4474,2955,2955,606,null,null,null,130,null,-1519]
[8,"Верхоянская",8343,7318,7318,5349,null,null,null,1833,null,-1025]
[9,"Вилюйская",5112,6813,6646,5905,167,null,null,2488,null,1701]
[10,"Горная",3028,2418,2418,1678,null,null,null,1025,null,-610]
[11,"Жиганская",342,2600,2600,1657,null,null,131,1,16,2258]
[12,"Кобяйская",5068,4674,4674,1472,null,null,null,2200,null,-394]
[13,"Ленская",11304,11634,11634,6801,null,null,12,820,null,330]
[14,"Момская",916,1083,1081,473,2,null,null,399,null,167]
[15,"Намская",10261,6636,6634,1311,2,null,null,675,null,-3625]
[16,"Нижнеколымская",1514,1357,1357,27,null,null,null,20,null,-157]
[17,"Нюрбинская",4156,3633,3632,1956,1,null,null,1798,null,-523]
[18,"Оймяконская",1214,1352,1340,null,12,null,null,479,null,138]
[19,"Олекминская",4968,4283,4283,3470,null,null,74,709,null,-685]
[20,"Оленекская",1130,1382,1382,1382,null,null,null,263,null,252]
[21,"Среднеколымская",3990,4885,4885,2859,null,null,null,2237,null,895]
[22,"Сунтарская*",8194,14828,14824,7055,4,null,null,4238,52,6634]
[23,"Таттинская",5803,3776,3758,2680,18,null,null,1767,null,-2027]
[24,"Томпонская",2513,2921,2921,1736,null,null,null,565,2,408]
[25,"Усть-Алданская",18557,11461,11461,5104,null,null,null,3871,null,-7096]
[26,"Усть-Майская",3854,4094,4094,1071,null,null,null,128,null,240]
[27,"Усть-Янская",1316,375,375,160,null,null,null,45,null,-941]
[28,"Хангаласская",7579,9911,9906,5572,5,null,14,2190,11,2332]
[29,"Чурапчинская",8304,7141,7141,3557,null,null,null,3251,1,-1163]
[30,"Мирнинская",7532,6085,6085,2009,null,null,null,506,3,-1447]
[31,"Нерюнгринская",3862,5786,5775,4539,11,null,null,39,2,1924]
[32,"Эвено-Бытантайская",481,157,157,117,null,null,null,118,null,-324]
[33,"Якутская",27214,20847,20841,13580,6,null,null,1883,13,{"$f":"D39-C39","v":-6367}]
[34,"Алданская",6401,9922,9548,7907,346,28,11,387,null,{"$f":"D40-C40","v":3521}]
[35,"Мег.-Кангаласская",5795,6869,6869,5287,null,null,null,2954,null,{"$f":"D41-C41","v":1074}]
[36,"ГБ г.Нерюнгри ",1831,2786,2786,1701,null,null,40,105,1,955]
[37,"Бердигестях ДБ",318,944,944,561,null,null,null,184,null,626]
[38,"Б-ка ГО \"п. Жатай\"",251,200,200,200,null,null,null,17,null,{"$f":"D44-C44","v":-51}]
[39,"Алданский БИЦ",1284,781,779,329,1,1,null,14,null,-503]
[40,"Томмотский БИЦ",3113,1801,1800,446,1,null,null,58,null,-1312]
[null,"Итого по МБ",{"$f":"SUM(C7:C46)","v":199798},191019,190344,110011,646,29,282,44155,103,-8779]
[null,"НБ РС(Я)",22167,26000,26000,22657,null,null,null,2921,545,3833]
[null,"Филиал НБ \"ДТК\"",3911,1417,1417,560,null,null,null,null,4,-2494]
[null,"РБС",6630,4000,1506,910,1351,1143,3536,240,null,-2630]
[null,"ВСЕГО ",{"$f":"SUM(C47:C50)","v":232506},{"$f":"SUM(D47:D50)","v":222436},219267,{"$f":"SUM(F47:F50)","v":134138},1997,{"$f":"SUM(H47:H50)","v":1172},{"$f":"SUM(I47:I50)","v":3818},47316,{"$f":"SUM(K44:K50)","v":652},-10070]

{"sheet":"т.5","index":8,"n_rows":49,"n_cols":6,"rows_kept":49,"cut":false,"hidden":false,"merged":[[1,0,1,5]]}
[null,null,null,null,null,"Таблица 5"]
["Относительные показатели библиотек республики"]
[]
["№","ЦБС","Документообесп.\n жителей","Документообесп.\n польз.","Обращаемость\nбибл. фонда","Обновляемость\nбибл.фонда"]
[1,"Абыйская",{"$f":"(т.4!I6/т.1!C9)/1000","v":20.042051282051283},{"$f":"'т.4.1'!D5/т.2!D7","v":35.224876070301939},{"$f":"т.6!D5/'т.4.1'!D5","v":0.49234941916995034},{"$f":"'[1]т.4.2'!D6/'т.4.1'!D5*100","v":2.2990123330433447}]
[2,"Аллаиховская",{"$f":"(т.4!I7/т.1!C10)/1000","v":29.057037037037038},{"$f":"'т.4.1'!D6/т.2!D8","v":59.706240487062402},{"$f":"т.6!D6/'т.4.1'!D6","v":0.56065974966222243},{"$f":"'т.4.2'!D8/'т.4.1'!D6*100","v":1.7755627501465827}]
[3,"Амгинская",{"$f":"(т.4!I8/т.1!C11)/1000","v":11.164880952380953},{"$f":"'т.4.1'!D7/т.2!D9","v":19.810942120828052},{"$f":"т.6!D7/'т.4.1'!D7","v":0.73149757423895079},{"$f":"'т.4.2'!D9/'т.4.1'!D7*100","v":2.9764887775230582}]
[4,"Анабарская",{"$f":"(т.4!I9/т.1!C12)/1000","v":6.741621621621622},{"$f":"'т.4.1'!D8/т.2!D10","v":21.861524978089395},{"$f":"т.6!D8/'т.4.1'!D8","v":0.845934894162925},{"$f":"'т.4.2'!D10/'т.4.1'!D8*100","v":3.980917254650417}]
[5,"Булунская",{"$f":"(т.4!I10/т.1!C13)/1000","v":17.37329411764706},{"$f":"'т.4.1'!D9/т.2!D11","v":21.349284371837502},{"$f":"т.6!D9/'т.4.1'!D9","v":1.055555179348967},{"$f":"'т.4.2'!D11/'т.4.1'!D9*100","v":1.3936196867402979}]
[6,"Верхневилюйская",{"$f":"(т.4!I11/т.1!C14)/1000","v":10.899245283018869},{"$f":"'т.4.1'!D10/т.2!D12","v":17.896677251955698},{"$f":"т.6!D10/'т.4.1'!D10","v":1.26658414984593},{"$f":"'т.4.2'!D12/'т.4.1'!D10*100","v":2.6745836651317383}]
[7,"Верхнеколымская",{"$f":"(т.4!I12/т.1!C15)/1000","v":27.390999999999998},{"$f":"'т.4.1'!D11/т.2!D13","v":35.309055752497585},{"$f":"т.6!D11/'т.4.1'!D11","v":0.97689021941513632},{"$f":"'т.4.2'!D13/'т.4.1'!D11*100","v":2.6970537767879961}]
[8,"Верхоянская",{"$f":"(т.4!I13/т.1!C16)/1000","v":19.675000000000001},{"$f":"'т.4.1'!D12/т.2!D14","v":36.838297872340426},{"$f":"т.6!D12/'т.4.1'!D12","v":0.55129952639482505},{"$f":"'т.4.2'!D14/'т.4.1'!D12*100","v":3.3813099226059835}]
[9,"Вилюйская",{"$f":"(т.4!I14/т.1!C17)/1000","v":10.743984063745019},{"$f":"'т.4.1'!D13/т.2!D15","v":30.841033851784079},{"$f":"т.6!D13/'т.4.1'!D13","v":0.69763863034626994},{"$f":"'т.4.2'!D15/'т.4.1'!D13*100","v":2.5263837077360072}]
[10,"Горная",{"$f":"(т.4!I15/т.1!C18)/1000","v":8.2992682926829264},{"$f":"'т.4.1'!D14/т.2!D16","v":16.208478882184821},{"$f":"т.6!D14/'т.4.1'!D14","v":1.4549622358715137},{"$f":"'т.4.2'!D16/'т.4.1'!D14*100","v":2.3687072031034178}]
[11,"Жиганская",{"$f":"(т.4!I16/т.1!C19)/1000","v":13.415238095238095},{"$f":"'т.4.1'!D15/т.2!D17","v":16.52316715542522},{"$f":"т.6!D15/'т.4.1'!D15","v":0.99314922618202472},{"$f":"'т.4.2'!D17/'т.4.1'!D15*100","v":4.6145108618486441}]
[12,"Кобяйская",{"$f":"(т.4!I17/т.1!C20)/1000","v":16.433416666666666},{"$f":"'т.4.1'!D16/т.2!D18","v":22.006584086597478},{"$f":"т.6!D16/'т.4.1'!D16","v":0.75793226200678498},{"$f":"'т.4.2'!D18/'т.4.1'!D16*100","v":2.3701705366605643}]
[13,"Ленская",{"$f":"(т.4!I18/т.1!C21)/1000","v":5.6896438356164385},{"$f":"'т.4.1'!D17/т.2!D19","v":14.307406131588012},{"$f":"т.6!D17/'т.4.1'!D17","v":1.51049250741554},{"$f":"'т.4.2'!D19/'т.4.1'!D17*100","v":5.6021033167687504}]
[14,"Момская",{"$f":"(т.4!I19/т.1!C22)/1000","v":21.049024390243904},{"$f":"'т.4.1'!D18/т.2!D20","v":41.954788526981041},{"$f":"т.6!D18/'т.4.1'!D18","v":0.35260309845772353},{"$f":"'т.4.2'!D20/'т.4.1'!D18*100","v":1.2549101400910767}]
[15,"Намская",{"$f":"(т.4!I20/т.1!C23)/1000","v":8.0351792828685262},{"$f":"'т.4.1'!D19/т.2!D21","v":15.330115536637276},{"$f":"т.6!D19/'т.4.1'!D19","v":1.1264657903740027},{"$f":"'т.4.2'!D21/'т.4.1'!D19*100","v":3.2903120243153858}]
[16,"Нижнеколымская",{"$f":"(т.4!I21/т.1!C24)/1000","v":23.804761904761904},{"$f":"'т.4.1'!D20/т.2!D22","v":43.812445223488169},{"$f":"т.6!D20/'т.4.1'!D20","v":0.47834566913382676},{"$f":"'т.4.2'!D22/'т.4.1'!D20*100","v":1.3572714542908582}]
[17,"Нюрбинская",{"$f":"(т.4!I22/т.1!C25)/1000","v":13.928607594936707},{"$f":"'т.4.1'!D21/т.2!D23","v":17.146686058591314},{"$f":"т.6!D21/'т.4.1'!D21","v":0.57522992475189938},{"$f":"'т.4.2'!D23/'т.4.1'!D21*100","v":1.1005489112654041}]
[18,"Оймяконская",{"$f":"(т.4!I23/т.1!C26)/1000","v":14.839620253164558},{"$f":"'т.4.1'!D22/т.2!D24","v":19.712964519926015},{"$f":"т.6!D22/'т.4.1'!D22","v":0.87051427499083023},{"$f":"'т.4.2'!D24/'т.4.1'!D22*100","v":1.1532588946798257}]
[19,"Олекминская",{"$f":"(т.4!I24/т.1!C27)/1000","v":10.931188524590166},{"$f":"'т.4.1'!D23/т.2!D25","v":24.201161419108974},{"$f":"т.6!D23/'т.4.1'!D23","v":0.71216739589308675},{"$f":"'т.4.2'!D25/'т.4.1'!D23*100","v":1.6057978186944408}]
[20,"Оленекская",{"$f":"(т.4!I25/т.1!C28)/1000","v":12.956744186046512},{"$f":"'т.4.1'!D24/т.2!D26","v":17.642178594046865},{"$f":"т.6!D24/'т.4.1'!D24","v":0.68611121082672222},{"$f":"'т.4.2'!D26/'т.4.1'!D24*100","v":2.4805255411566214}]
[21,"Среднеколымская",{"$f":"(т.4!I26/т.1!C29)/1000","v":17.236027397260273},{"$f":"'т.4.1'!D25/т.2!D27","v":27.406447397081244},{"$f":"т.6!D25/'т.4.1'!D25","v":0.44874148605580855},{"$f":"'т.4.2'!D27/'т.4.1'!D25*100","v":3.8824380280234929}]
[22,"Сунтарская*",{"$f":"(т.4!I27/т.1!C30)/1000","v":9.7927426160337561},{"$f":"'т.4.1'!D26/т.2!D28","v":14.802474647617833},{"$f":"т.6!D26/'т.4.1'!D26","v":1.0494122918892834},{"$f":"'т.4.2'!D28/'т.4.1'!D26*100","v":6.388955913274275}]
[23,"Таттинская",{"$f":"(т.4!I28/т.1!C31)/1000","v":12.844601226993865},{"$f":"'т.4.1'!D27/т.2!D29","v":28.586428181321683},{"$f":"т.6!D27/'т.4.1'!D27","v":0.73421312814340367},{"$f":"'т.4.2'!D29/'т.4.1'!D27*100","v":1.8035315976252229}]
[24,"Томпонская",{"$f":"(т.4!I29/т.1!C32)/1000","v":13.860079365079365},{"$f":"'т.4.1'!D28/т.2!D30","v":26.332478890229194},{"$f":"т.6!D28/'т.4.1'!D28","v":0.79583364350051822},{"$f":"'т.4.2'!D30/'т.4.1'!D28*100","v":1.6726123330107594}]
[25,"Усть-Алданская",{"$f":"(т.4!I30/т.1!C33)/1000","v":19.857268292682924},{"$f":"'т.4.1'!D29/т.2!D31","v":20.348612846788303},{"$f":"т.6!D29/'т.4.1'!D29","v":0.96406304504832041},{"$f":"'т.4.2'!D31/'т.4.1'!D29*100","v":2.8154586144042608}]
[26,"Усть-Майская",{"$f":"(т.4!I31/т.1!C34)/1000","v":17.717500000000001},{"$f":"'т.4.1'!D30/т.2!D32","v":25.391321656050955},{"$f":"т.6!D30/'т.4.1'!D30","v":1.1810278600881112},{"$f":"'т.4.2'!D32/'т.4.1'!D30*100","v":3.2093190975651815}]
[27,"Усть-Янская",{"$f":"(т.4!I32/т.1!C35)/1000","v":24.482714285714287},{"$f":"'т.4.1'!D31/т.2!D33","v":45.26650818806128},{"$f":"т.6!D31/'т.4.1'!D31","v":0.26439061962084037},{"$f":"'т.4.2'!D33/'т.4.1'!D31*100","v":0.21881327350492183}]
[28,"Хангаласская",{"$f":"(т.4!I33/т.1!C36)/1000","v":9.5911515151515161},{"$f":"'т.4.1'!D32/т.2!D34","v":10.020198182796721},{"$f":"т.6!D32/'т.4.1'!D32","v":0.95414333918889882},{"$f":"'т.4.2'!D34/'т.4.1'!D32*100","v":3.1313584490755364}]
[29,"Чурапчинская",{"$f":"(т.4!I34/т.1!C37)/1000","v":13.040521327014218},{"$f":"'т.4.1'!D33/т.2!D35","v":27.57893154254786},{"$f":"т.6!D33/'т.4.1'!D33","v":0.63462048663480586},{"$f":"'т.4.2'!D35/'т.4.1'!D33*100","v":2.5952644872889827}]
[30,"Мирнинская",{"$f":"(т.4!I35/т.1!C38)/1000","v":3.1979833101529898},{"$f":"'т.4.1'!D34/т.2!D36","v":13.508107155445893},{"$f":"т.6!D34/'т.4.1'!D34","v":1.4959619022767303},{"$f":"'т.4.2'!D36/'т.4.1'!D34*100","v":2.6464000695848826}]
[31,"Нерюнгринская",{"$f":"(т.4!I36/т.1!C39)/1000","v":1.9059012016021364},{"$f":"'т.4.1'!D35/т.2!D37","v":10.859794598706733},{"$f":"т.6!D35/'т.4.1'!D35","v":2.122092860345214},{"$f":"'т.4.2'!D37/'т.4.1'!D35*100","v":4.0531831427930962}]
[32,"Эвено-Бытантайская",{"$f":"(т.4!I37/т.1!C40)/1000","v":14.648275862068965},{"$f":"'т.4.1'!D36/т.2!D38","v":29.810526315789474},{"$f":"т.6!D36/'т.4.1'!D36","v":0.90685028248587574},{"$f":"'т.4.2'!D38/'т.4.1'!D36*100","v":0.36958568738229752}]
[33,"Якутская",{"$f":"(т.4!I38/т.1!C41)/1000","v":1.3305357142857142},{"$f":"'т.4.1'!D37/т.2!D39","v":7.5534590166614892},{"$f":"т.6!D37/'т.4.1'!D37","v":2.7666972608136602},{"$f":"'т.4.2'!D38/'т.4.1'!D36*100","v":0.36958568738229752}]
[34,"Алданская",{"$f":"(т.4!I39/т.1!C42)/1000","v":3.1779123711340209},{"$f":"'т.4.1'!D38/т.2!D40","v":15.826338082402772},{"$f":"т.6!D38/'т.4.1'!D38","v":1.0007623496589702},{"$f":"'т.4.2'!D40/'т.4.1'!D38*100","v":8.0468439535128908}]
[35,"М.-Кангаласская",{"$f":"(т.4!I40/т.1!C43)/1000","v":14.667643312101911},{"$f":"'т.4.1'!D39/т.2!D41","v":28.151833740831297},{"$f":"т.6!D39/'т.4.1'!D39","v":0.46409402384901988},{"$f":"'т.4.2'!D41/'т.4.1'!D39*100","v":1.4914322439443812}]
[36,"ГБ г.Нерюнгри",null,{"$f":"'т.4.1'!D40/т.2!D42","v":13.140845070422536},{"$f":"т.6!D40/'т.4.1'!D40","v":1.3266592810757745},{"$f":"'т.4.2'!D42/'т.4.1'!D40*100","v":2.5092995397515918}]
[37,"Бердигестях ДБ",null,{"$f":"'т.4.1'!D41/т.2!D43","v":11.529330572808833},{"$f":"т.6!D41/'т.4.1'!D41","v":0.78618460433377235},{"$f":"'т.4.2'!D43/'т.4.1'!D41*100","v":5.6506644319406201}]
[38,"Б-ка ГО \"Жатай\"",{"$f":"(т.4!I43/т.1!C46)/1000","v":1.9885714285714287},{"$f":"'т.4.1'!D42/т.2!D44","v":7.6037873270211218},{"$f":"т.6!D42/'т.4.1'!D42","v":2.4078065134099615},{"$f":"'т.4.2'!D44/'т.4.1'!D42*100","v":0.95785440613026818}]
[39,"Алданский БИЦ",null,{"$f":"'т.4.1'!D43/т.2!D45","v":9.7009817671809255},{"$f":"т.6!D43/'т.4.1'!D43","v":2.100942632431182},{"$f":"'т.4.2'!D45/'т.4.1'!D43*100","v":2.2582697201017812}]
[40,"Томмотский БИЦ",null,{"$f":"'т.4.1'!D44/т.2!D46","v":8.4184013322231479},{"$f":"т.6!D44/'т.4.1'!D44","v":2.9297512487018444},{"$f":"'т.4.2'!D46/'т.4.1'!D44*100","v":4.4532911329805653}]
[null,"Итого по МБ",{"$f":"(т.4!I46/т.1!C49)/1000","v":6.9139443935227627},{"$f":"'т.4.1'!D45/т.2!D47","v":17.666795916402311},{"$f":"т.6!D45/'т.4.1'!D45","v":1.0248157185907028},{"$f":"'т.4.2'!D47*100/'т.4.1'!D45","v":2.8137365031414969}]
[null,"НБ РС(Я)",null,{"$f":"'т.4.1'!D46/т.2!D48","v":46.118856954804741},{"$f":"т.6!D46/'т.4.1'!D46","v":0.99312829209872522},{"$f":"'т.4.2'!D48*100/'т.4.1'!D46","v":1.5460748133709308}]
[null,"Филиал НБ \"ДТК\"",null,{"$f":"'т.4.1'!D47/т.2!D49","v":21.371173627463129},{"$f":"т.6!D47/'т.4.1'!D47","v":1.119377884994549},{"$f":"'т.4.2'!D49*100/'т.4.1'!D47","v":0.82171603535060656}]
[null,"РБС",null,{"$f":"'т.4.1'!D48/т.2!D50","v":65.446255506607926},{"$f":"т.6!D48/'т.4.1'!D48","v":0.61149815229902471},{"$f":"'т.4.2'!D50*100/'т.4.1'!D48","v":2.6924604376594443}]
[null,"ВСЕГО ",{"$f":"(т.4!I50/т.1!C53)/1000","v":8.9535461859659868},{"$f":"'т.4.1'!D49/т.2!D51","v":20.394474704921684},{"$f":"т.6!D49/'т.4.1'!D49","v":1.0136247713270803},{"$f":"'т.4.2'!D51*100/'т.4.1'!D49","v":2.5301294308914977}]

{"sheet":"т.6","index":9,"n_rows":49,"n_cols":7,"rows_kept":49,"cut":false,"hidden":false,"merged":[[1,0,1,6]]}
[null,null,null,null,null,"Таблица 6"]
["Выдача документов из фондов библиотек"]
[]
["№","ЦБС",2020,2021,"\"+  -\"","в городе","на селе"]
[1,"Абыйская",31701,38484,{"$f":" D5 - C5","v":6783},{"$f":"D5 - G5","v":25441},13043]
[2,"Аллаиховская",15941,43986,28045,35087,8899]
[3,"Амгинская",123399,137207,13808,{"$f":"D7-G7","v":0},137207]
[4,"Анабарская",21793,21101,-692,{"$f":"D8-G8","v":0},21101]
[5,"Булунская",113316,155877,42561,103383,52494]
[6,"Верхневилюйская",149592,292662,143070,{"$f":"D10-G10","v":0},292662]
[7,"Верхнеколымская",83540,107032,23492,81144,25888]
[8,"Верхоянская",62843,119315,56472,70146,49169]
[9,"Вилюйская",191395,188135,-3260,104046,84089]
[10,"Горная",82533,148524,65991,0,148524]
[11,"Жиганская",38042,55958,17916,0,55958]
[12,"Кобяйская",134082,149465,15383,109353,40112]
[13,"Ленская",145655,313687,168032,239446,74241]
[14,"Момская",33468,30430,-3038,0,30430]
[15,"Намская",96639,227189,130550,{"$f":"D19-G19","v":0},227189]
[16,"Нижнеколымская",32575,47825,15250,42518,5307]
[17,"Нюрбинская",176390,189888,13498,62308,127580]
[18,"Оймяконская",54679,102053,47374,62138,39915]
[19,"Олекминская",137747,189950,52203,86610,103340]
[20,"Оленекская",32614,38226,5612,0,38226]
[21,"Среднеколымская",35338,56462,21124,25710,30752]
[22,"Сунтарская*",192417,243556,51139,0,243556]
[23,"Таттинская",193891,153720,-40171,0,153720]
[24,"Томпонская",118006,138982,20976,61315,77667]
[25,"Усть-Алданская",309439,392445,83006,0,392445]
[26,"Усть-Майская",138591,150659,12068,110354,40305]
[27,"Усть-Янская",74955,45311,-29644,33589,11722]
[28,"Хангаласская",195168,301994,106826,130398,171596]
[29,"Чурапчинская",175272,174619,-653,0,174619]
[30,"Мирнинская",276882,343974,67092,327776,16198]
[31,"Нерюнгринская",278625,302933,24308,281202,21731]
[32,"Эвено-Бытантайcкая",13556,38523,24967,0,38523]
[33,"Якутская",562167,1278109,{"$f":" D37 - C37","v":715942},{"$f":"D37 - G37","v":1154060},124049]
[34,"Алданская",148796,123397,{"$f":" D38 - C38","v":-25399},{"$f":"D38 - G38","v":106277},17120]
[35,"Мегино-Кангаласская",205354,213745,{"$f":" D39 - C39","v":8391},{"$f":"D39 - G39","v":7374},206371]
[36,"ГБ г.Нерюнгри ",80221,147295,67074,147295,0]
[37,"Бердигестях ДБ",24512,13134,null,0,13134]
[38,"Б-ка ГО \"п. Жатай\"",26933,50275,{"$f":" D42 - C42","v":23342},50275,0]
[39,"Алданский БИЦ",61277,72659,{"$f":" D43 - C43","v":11382},{"$f":"D43 - G43","v":71259},1400]
[40,"Томмотский БИЦ",67826,118485,50659,110678,7807]
[null,"Итого по МБ",{"$f":"SUM(C5:C44)","v":4937170},{"$f":"SUM(D5:D44)","v":6957271},2020101,3639182,{"$f":"SUM(G5:G44)","v":3318089}]
[null,"НБ РС(Я)",3056910,1670122,-1386788,1670122,0]
[null,"Филиал НБ \"ДТК\"",65725,193030,127305,193030,0]
[null,"РБС",63425,90846,27421,90846,0]
[null,"Итого по РС(Я)",{"$f":"SUM(C45:C48)","v":8123230},{"$f":"SUM(D45:D48)","v":8911269},788039,{"$f":"SUM(F45:F48)","v":5593180},{"$f":"SUM(G45:G48)","v":3318089}]

{"sheet":"т.6.1","index":10,"n_rows":50,"n_cols":8,"rows_kept":50,"cut":false,"hidden":false,"merged":[[1,0,1,6],[3,4,3,7],[3,0,4,0],[3,1,4,1],[3,2,4,2],[3,3,4,3]]}
[null,null,null,null,null,null,"Таблица 6.1"]
["Выдача документов из фондов библиотек"]
[]
["№","ЦБС",2020,2021,"в том числе"]
[null,null,null,null,"из фонда на физ. нос.","из ЭБ","инсталл. док.","сетев. удал. лиц. док."]
[1,"Абыйская",31701,38484,38484]
[2,"Аллаиховская",15941,43986,43986]
[3,"Амгинская",123399,137207,134474,730,null,2003]
[4,"Анабарская",21793,21101,21056,45]
[5,"Булунская",113316,155877,155877]
[6,"Верхневилюйская",149592,292662,292405,96,161]
[7,"Верхнеколымская",83540,107032,106431,null,235,366]
[8,"Верхоянская",62843,119315,119235,null,80]
[9,"Вилюйская",191395,188135,183987,4148]
[10,"Горная",82533,148524,147599,null,283,642]
[11,"Жиганская",38042,55958,55958]
[12,"Кобяйская",134082,149465,148027,1438]
[13,"Ленская",145655,313687,309400,null,71,4216]
[14,"Момская",33468,30430,30430]
[15,"Намская",96639,227189,226898,null,59,232]
[16,"Нижнеколымская",32575,47825,47825]
[17,"Нюрбинская",176390,189888,189888]
[18,"Оймяконская",54679,102053,102053]
[19,"Олекминская",137747,189950,189617,333]
[20,"Оленекская",32614,38226,38226]
[21,"Среднеколымская",35338,56462,56462]
[22,"Сунтарская*",192417,243556,243319,null,25,212]
[23,"Таттинская",193891,153720,148292,3334,4,2090]
[24,"Томпонская",118006,138982,133291,5205,209,277]
[25,"Усть-Алданская",309439,392445,367066,20035,5344]
[26,"Усть-Майская",138591,150659,150659]
[27,"Усть-Янская",74955,45311,45311]
[28,"Хангаласская",195168,301994,281610,19318,828,238]
[29,"Чурапчинская",175272,174619,174619]
[30,"Мирнинская",276882,343974,341550,null,1402,1022]
[31,"Нерюнгринская",278625,302933,285986,3614,626,12707]
[32,"Эвено-Бытантайcкая",13556,38523,38523]
[33,"Якутская",562167,1278109,1259519,null,301,18289]
[34,"Алданская",148796,123397,119229,1408,1497,1263]
[35,"Мег.-Кангаласская",205354,213745,213699,46]
[36,"ГБ г.Нерюнгри ",80221,147295,146501,null,491,303]
[37,"Бердигестях ДБ",24512,13134,12959,null,null,175]
[38,"Б-ка ГО \"п. Жатай\"",26933,50275,50275]
[39,"Алданский БИЦ",61277,72659,72659]
[40,"Томмотский БИЦ",67826,118485,118182,303]
[null,"Итого по МБ",{"$f":"SUM(C6:C45)","v":4937170},6957271,6841567,60053,11616,44035]
[null,"НБ РС(Я)",3056910,1670122,412868,1222584,2069,32601]
[null,"Филиал НБ \"ДТК\"",65725,193030,193030]
[null,"РБС",63425,90846,49035,29687,null,12124]
[null,"Итого по РС(Я)",{"$f":"SUM(C46:C49)","v":8123230},8911269,7496500,1312324,13685,88760]

{"sheet":"т.7","index":11,"n_rows":50,"n_cols":8,"rows_kept":50,"cut":false,"hidden":false,"merged":[[1,0,1,7],[2,0,2,7]]}
[null,null,null,null,null,null,"Таблица 7"]
["Общие сведения."]
["Характеристика помещений  библиотек республики."]
[]
["№","ЦБС","Кол-во\nбиб-к всего","Общая\nплощадь\n(кв.м.)","требуют\nкап. ремонта\n(ед.)","аварий-\nных\n(ед.)","арендо-\nванных\n(ед.)","прочие"]
[1,"Абыйская ",7,678.3]
[2,"Аллаиховская ",6,401.3,1]
[3,"Амгинская ",16,1365.7]
[4,"Анабарская ",3,251]
[5,"Булунская ",8,862.8,5]
[6,"Верхневилюйская",23,2363.8000000000002]
[7,"Верхнеколымская ",7,1255.2,null,null,1]
[8,"Верхоянская ",17,1222.2]
[9,"Вилюйская ",24,1772.8,null,1]
[10,"Горная",9,856.3]
[11,"Жиганская ",5,270.8]
[12,"Кобяйская ",17,1516.3,null,null,10]
[13,"Ленская ",21,2376.6999999999998,null,null,5]
[14,"Момская ",7,591.9]
[15,"Намская ",20,1721.8,2,1]
[16,"Нижнеколымская ",6,605.70000000000005,1]
[17,"Нюрбинская",23,1650.9]
[18,"Оймяконская ",9,803.3,null,null,2]
[19,"Олекминская ",27,1499.6]
[20,"Оленекская ",5,374.9,1]
[21,"Среднеколымская ",11,588.5]
[22,"Сунтарская*",22,1802.5,null,2]
[23,"Таттинская ",15,1614.2,1,1]
[24,"Томпонская ",13,2202.6999999999998,null,1,1]
[25,"Усть-Алданская",28,2901.9,null,2]
[26,"Усть-Майская ",10,623.1,null,null,7]
[27,"Усть-Янская ",9,555,null,null,9]
[28,"Хангаласская",24,2648.6]
[29,"Чурапчинская ",19,1719.4]
[30,"Мирнинская ",11,2679.1,1,null,8]
[31,"Нерюнгринская ",8,1523.3]
[32,"Эвено-Бытантайская ",3,167]
[33,"Якутская",18,8059.1,1,1,2]
[34,"Алданская",9,1168,null,null,4]
[35,"Мегино-Кангаласская",31,2678.1,null,5]
[36,"ГБ г.Нерюнгри ",1,1527.5]
[37,"Бердигестях ДБ",1,192.2]
[38,"Б-ка ГО \"п. Жатай\"",1,270]
[39,"Алданский БИЦ",2,427.2,null,null,1]
[40,"Томмотский БИЦ",3,345]
[null,"Итого по МБ",{"$f":"SUM(C6:C45)","v":499},{"$f":"SUM(D6:D45)","v":56133.7},{"$f":"SUM(E6:E45)","v":13},{"$f":"SUM(F6:F45)","v":14},{"$f":"SUM(G6:G45)","v":50},{"$f":"SUM(H6:H43)","v":0}]
[null,"НБ РС(Я)",1,9010.5,1]
[null,"Филиал НБ \"ДТК\"",1,1274.4000000000001,null,null,1]
[null,"РБС",1,328.5]
[null,"Итого по РС(Я)",{"$f":"SUM(C46:C49)","v":502},{"$f":"SUM(D46:D49)","v":66747.099999999991},14,14,51,0]

{"sheet":"т.8","index":12,"n_rows":53,"n_cols":10,"rows_kept":53,"cut":false,"hidden":false,"merged":[[1,0,1,9],[2,0,2,9],[4,6,4,9]]}
[null,null,null,null,null,null,null,null,"Таблица 8"]
["Материально-техническая база библиотек республики."]
["Количество технических средств, средств связи"]
[]
["№","ЦБС","Всего","число","число","число ","число библиотек, имеющих"]
[null,null,"кол-во","посад.","посад.","посад.","здание","спец.","Интернет","доступ"]
[null,null,"биб-к","мест","мест","мест","для лиц","оборуд.","сайт","в"]
[null,null,null,"для польз.","комп.","с Инт. ","с ОВЗ","для инвал.","или стр.","Инт."]
[1,"Абыйская ",7,74,9,9,2,2,1,7]
[2,"Аллаиховская ",6,56,6,5,null,null,1,6]
[3,"Амгинская ",16,138,27,25,7,2,3,16]
[4,"Анабарская ",3,25,3,3,2,1,1,3]
[5,"Булунская ",8,122,10,8,null,null,1,8]
[6,"Верхневилюйская",23,350,57,48,15,1,2,23]
[7,"Верхнеколымская ",7,116,17,12,2,2,1,7]
[8,"Верхоянская ",17,169,13,9,2,null,1,9]
[9,"Вилюйская ",24,219,36,18,14,null,1,23]
[10,"Горная ",9,93,14,11,2,null,1,9]
[11,"Жиганская ",5,37,7,7,null,null,1,5]
[12,"Кобяйская ",17,220,39,38,null,null,2,17]
[13,"Ленская ",21,196,25,25,6,null,1,21]
[14,"Момская ",7,65,9,6,1,null,null,6]
[15,"Намская ",20,241,38,34,11,1,20,20]
[16,"Нижнеколымская ",6,48,6,5,null,null,1,6]
[17,"Нюрбинская",23,212,24,22,23,null,1,22]
[18,"Оймяконская ",9,86,3,3,null,null,1,8]
[19,"Олекминская ",27,285,61,48,8,1,2,26]
[20,"Оленекская ",5,34,6,5,null,null,2,5]
[21,"Среднеколымская ",11,60,10,10,null,null,1,10]
[22,"Сунтарская* ",22,226,29,24,13,null,3,22]
[23,"Таттинская ",15,157,25,23,1,null,15,15]
[24,"Томпонская ",13,159,28,27,2,1,1,12]
[25,"Усть-Алданская ",28,339,55,39,11,2,27,28]
[26,"Усть-Майская ",10,56,3,3,null,null,1,10]
[27,"Усть-Янская ",9,57,2,2,null,null,1,9]
[28,"Хангаласская",24,269,69,56,7,null,5,21]
[29,"Чурапчинская ",19,225,40,34,1,1,2,19]
[30,"Мирнинская ",11,250,25,21,4,3,1,11]
[31,"Нерюнгринская ",8,143,33,32,4,null,8,8]
[32,"Эвено-Бытантайская ",3,10,1,1,null,null,1,3]
[33,"Якутская",18,657,117,115,11,9,1,18]
[34,"Алданская",9,118,26,24,3,1,1,8]
[35,"Мег.-Кангаласская",31,297,62,56,16,null,31,31]
[36,"ГБ г.Нерюнгри ",1,208,13,13,1,1,1,1]
[37,"Бердигестях ДБ",1,36,6,6,1,null,1,1]
[38,"Б-ка ГО \"п. Жатай\"",1,27,null,null,1,null,1,1]
[39,"Алданский БИЦ",2,71,5,4,1,null,1,1]
[40,"Томмотский БИЦ",3,69,9,9,null,null,1,3]
[null,"ИТОГО по МБ",{"$f":"SUM(C9:C48)","v":499},{"$f":"SUM(D9:D48)","v":6220},{"$f":"SUM(E9:E48)","v":968},{"$f":"SUM(F9:F48)","v":840},{"$f":"SUM(G9:G47)","v":172},{"$f":"SUM(H9:H46)","v":28},{"$f":"SUM(I9:I48)","v":148},{"$f":"SUM(J9:J48)","v":479}]
[null,"НБ РС(Я)",1,404,49,38,1,1,1,1]
[null,"Филиал НБ \"ДТК\"",1,139,7,7,null,1,1,1]
[null,"РБС",1,16,8,8,null,1,1,1]
[null,"Итого по РС(Я)",{"$f":"SUM(C49:C52)","v":502},6779,1032,{"$f":"SUM(F49:F52)","v":893},173,31,151,482]

{"sheet":"т.8.1","index":13,"n_rows":47,"n_cols":10,"rows_kept":47,"cut":false,"hidden":false,"merged":[[1,0,1,9],[2,0,2,9],[4,6,4,9],[0,8,0,9]]}
[null,null,null,null,null,null,null,null,"Таблица 8.1"]
["Материально-техническая база библиотек на селе."]
["Количество технических средств, средств связи"]
[]
["№","ЦБС","Всего","число","число","число ","число библиотек, имеющих"]
[null,null,"кол-во","посад.","посад.","посад.","здание","спец.","Интернет","доступ"]
[null,null,"биб-к","мест","мест","мест","для лиц","оборуд.","сайт","в"]
[null,null,null,"для польз.","компьют.","с Инт. ","с ОВЗ, пандус","для инвал.",null,"Интернет"]
[1,"Абыйская ",5,48,5,5,null,null,null,5]
[2,"Аллаиховская ",4,30,3,2,null,null,null,4]
[3,"Амгинская ",16,138,27,25,7,2,3,16]
[4,"Анабарская ",3,25,3,3,2,1,1,3]
[5,"Булунская ",6,48,5,3,null,null,null,6]
[6,"Верхневилюйская",23,350,57,48,15,1,2,23]
[7,"Верхнеколымская ",5,55,9,5,null,null,null,5]
[8,"Верхоянская ",13,102,8,5,null,null,null,6]
[9,"Вилюйская ",20,126,20,13,11,null,null,19]
[10,"Горная",9,93,14,11,2,null,1,9]
[11,"Жиганская ",5,37,7,7,null,null,1,5]
[12,"Кобяйская ",15,174,24,23,null,null,1,15]
[13,"Ленская ",14,43,14,14,3,null,null,14]
[14,"Момская ",7,65,9,6,1,null,null,6]
[15,"Намская ",20,241,38,34,11,1,20,20]
[16,"Нижнеколымская ",3,19,3,3,null,null,null,3]
[17,"Нюрбинская",20,150,21,19,20,null,null,19]
[18,"Оймяконская ",6,56,1,1,null,null,null,5]
[19,"Олекминская ",25,200,48,35,6,null,null,24]
[20,"Оленекская ",5,34,6,5,null,null,2,5]
[21,"Среднеколымская ",9,38,8,8,null,null,null,8]
[22,"Сунтарская* ",22,226,29,24,13,null,3,22]
[23,"Таттинская ",15,157,25,23,1,null,15,15]
[24,"Томпонская ",10,79,6,5,null,null,null,9]
[25,"Усть-Алданская",28,339,55,39,11,2,27,28]
[26,"Усть-Майская ",5,12,null,null,null,null,null,5]
[27,"Усть-Янская ",5,17,null,null,null,null,null,5]
[28,"Хангаласская",21,182,43,32,5,null,4,18]
[29,"Чурапчинская ",19,225,40,34,1,1,2,19]
[30,"Мирнинская ",3,17,4,3,null,null,null,3]
[31,"Нерюнгринская ",2,18,4,3,null,null,2,2]
[32,"Эвено-Бытантайская ",3,10,1,1,null,null,1,3]
[33,"Якутская",4,92,18,17,4,2,null,4]
[34,"Алданская",5,32,6,4,1,null,null,4]
[35,"Мег.-Кангаласская",30,291,61,55,15,null,30,30]
[36,"Бердигестях ДБ",1,36,6,6,1,null,1,1]
[37,"Алданский БИЦ",1,11,1]
[38,"Томмотский БИЦ",1,6,1,1,null,null,null,1]
[null,"Итого по РС(Я)",{"$f":"SUM(C9:C46)","v":408},3822,630,522,130,10,116,389]

{"sheet":"т.9","index":14,"n_rows":51,"n_cols":12,"rows_kept":51,"cut":false,"hidden":false,"merged":[[1,0,1,11],[3,5,3,8],[3,9,3,11]]}
[null,null,null,null,null,null,null,null,null,"Таблица 9"]
["Персонал библиотек республики"]
[]
[null,null,"Штат","Числ.","из них","из них имеют",null,null,null,"со стажем работы"]
["№","ЦБС","библ.","раб-ков","основной","высшее","из них","среднее","из них","до 3","от 3 до","свыше"]
[null,null,null,"всего","персонал","обр.","библ.","спец.","библ.","лет","10 лет","10 лет"]
[1,"Абыйская",21,21,14,11,5,2,2,6,4,4]
[2,"Аллаиховская",15.5,17,11,8,8,2,1,1,3,7]
[3,"Амгинская",57.5,62,42,36,28,6,4,1,12,29]
[4,"Анабарская",8,8,5,1,1,3,1,null,3,2]
[5,"Булунская",32,32,21,6,5,15,9,5,8,8]
[6,"Верхневилюйская",57.5,65,42,32,30,10,7,7,10,25]
[7,"Верхнеколымская",17,19,13,5,3,7,3,1,5,7]
[8,"Верхоянская",51.5,56,36,23,19,13,8,11,7,18]
[9,"Вилюйская",53,57,43,32,28,11,6,4,12,27]
[10,"Горная",20,20,19,16,14,2,1,1,8,10]
[11,"Жиганская",9,9,7,6,6,1,1,1,5,1]
[12,"Кобяйская",46.5,50,32,18,17,14,10,4,9,19]
[13,"Ленская",92,92,55,20,7,29,11,3,25,27]
[14,"Момская",20,22,14,8,8,6,4,5,1,8]
[15,"Намская",56.5,65,38,30,28,8,2,6,12,20]
[16,"Нижнеколымская",15,14,13,6,4,6,4,5,1,7]
[17,"Нюрбинская",63.5,68,51,37,30,7,6,9,15,27]
[18,"Оймяконская",26.5,25,18,9,8,9,6,2,6,10]
[19,"Олекминская",60,68,46,31,12,10,7,10,13,23]
[20,"Оленекская",14.5,14,12,6,2,4,4,2,7,3]
[21,"Среднеколымская",20,20,17,6,5,11,9,4,8,5]
[22,"Сунтарская*",60.75,64,45,28,26,12,8,4,14,27]
[23,"Таттинская",42.5,49,30,23,21,7,6,3,6,21]
[24,"Томпонская",43,41,30,17,15,10,9,9,8,13]
[25,"Усть-Алданская",73,93,57,49,48,7,5,4,14,39]
[26,"Усть-Майская",33,33,23,13,7,9,4,6,6,11]
[27,"Усть-Янская",21,19,17,8,8,7,7,4,8,5]
[28,"Хангаласская",65,86,56,44,36,11,4,14,12,30]
[29,"Чурапчинская",48,59,37,30,27,5,3,5,12,20]
[30,"Мирнинская",69.25,71,47,32,27,11,5,8,23,16]
[31,"Нерюнгринская",36.5,36,29,18,9,11,5,6,6,17]
[32,"Эвено-Бытантай",8,9,5,null,null,3,1,null,1,4]
[33,"Якутская",185,194,168,155,120,13,6,33,49,86]
[34,"Алданская",44.75,44,33,11,8,21,7,5,5,23]
[35,"М.-Кангаласская",67,59,57,47,42,9,8,10,19,28]
[36,"ГБ г.Нерюнгри ",11.5,15,13,12,11,1,1,2,6,5]
[37,"Бердигестях ДБ",7.5,8,4,4,4,null,null,null,1,3]
[38,"Б-ка ГО \"п. Жатай\"",5,5,3,3,2,null,null,null,2,1]
[39,"Алданский БИЦ",10.5,11,7,3,1,4,2,null,4,3]
[40,"Томмотский БИЦ",10,9,6,3,2,2,2,1,2,3]
[null,"Итого по МБ",{"$f":"SUM(C7:C46)","v":1597.75},1709,1216,847,682,319,189,202,372,642]
[null,"НБ РС(Я)",222.5,249,236,221,158,15,7,62,64,110]
[null,"Филиал НБ \"ДТК\"",34,34,34,34,22,null,null,7,6,21]
[null,"РБС",17.5,18,15,13,11,2,null,4,4,7]
[null,"Итого по РС(Я)",{"$f":"SUM(C47:C50)","v":1871.75},{"$f":"SUM(D47:D50)","v":2010},1501,1115,873,336,196,275,446,780]

{"sheet":"т.9.1","index":15,"n_rows":45,"n_cols":12,"rows_kept":45,"cut":false,"hidden":false,"merged":[[1,0,1,11],[3,9,3,11],[3,5,3,8]]}
[null,null,null,null,null,null,null,null,null,null,"Таблица 9.1"]
["Персонал библиотек  (из общего числа - в сельской местности)"]
[]
[null,null,"Штат","Числ.","из них","из них имеют",null,null,null,"со стажем работы"]
["№","ЦБС","библ.","раб-ков","осн.","высшее","из них","среднее","из них","от 3 до","от 6 до ","свыше"]
[null,null,null,"всего","перс.","обр.","библ.","спец.","библ.","6 лет","10 лет","10 лет"]
[1,"Абыйская",11,11,6,4,2,1,1,2,1,3]
[2,"Аллаиховская",5.5,7,4,1,1,2,1,1,null,3]
[3,"Амгинская",57.5,62,42,36,28,6,4,1,12,29]
[4,"Анабарская",8,8,5,1,1,3,1,null,3,2]
[5,"Булунская",12,12,7,3,2,4,1,1,4,2]
[6,"Верхневилюйская",57.5,65,42,32,30,10,7,7,10,25]
[7,"Верхнеколымская",4.5,7,5,null,null,5,3,null,null,5]
[8,"Верхоянская",21,25,13,5,4,8,4,3,2,8]
[9,"Вилюйская",26.75,32,20,14,12,6,3,3,6,11]
[10,"Горная",20,20,19,16,14,2,1,1,8,10]
[11,"Жиганская",9,9,7,6,6,1,1,1,5,1]
[12,"Кобяйская",25.5,31,18,10,10,8,4,3,2,13]
[13,"Ленская",35,35,15,4,3,6,1,null,9,6]
[14,"Момская",20,22,14,8,8,6,4,5,1,8]
[15,"Намская",56.5,65,38,30,28,8,2,6,12,20]
[16,"Нижнеколымская",4,3,3,2,2,1,null,1,1,1]
[17,"Нюрбинская",27,31,23,15,12,7,6,4,4,15]
[18,"Оймяконская",10.5,11,8,7,6,1,1,null,3,5]
[19,"Олекминская",34.5,42,26,14,9,7,5,7,2,17]
[20,"Оленекская",14.5,14,12,6,2,4,4,2,7,3]
[21,"Среднеколымская",9,9,9,2,2,7,5,1,5,3]
[22,"Сунтарская*",60.75,64,45,28,26,12,8,4,14,27]
[23,"Таттинская",42.5,49,30,23,21,7,6,3,6,21]
[24,"Томпонская",13,13,12,4,2,5,5,5,3,4]
[25,"Усть-Алданская",73,93,57,49,48,7,5,4,14,39]
[26,"Усть-Майская",7,7,5,3,null,2,1,2,1,2]
[27,"Усть-Янская",6,6,6,3,3,2,2,1,2,3]
[28,"Хангаласская",30.5,46,24,18,16,5,4,6,7,11]
[29,"Чурапчинская",48,59,37,30,27,5,3,5,12,20]
[30,"Мирнинская",4.5,6,3,1,1,1,null,null,null,3]
[31,"Нерюнгринская",2,2,2,null,null,2,1,1,null,1]
[32,"Эвено-Бытантайская",8,9,5,null,null,3,1,null,1,4]
[33,"Якутская",12,14,13,12,10,1,null,2,4,7]
[34,"Алданская",7,6,5,null,null,4,1,null,2,3]
[35,"М.-Кангаласская",65,57,55,45,40,9,8,9,19,27]
[36,"Бердигестях ДБ*",7.5,8,4,4,4,null,null,null,1,3]
[37,"Алданский БИЦ",1,1,1,null,null,1,null,null,1]
[38,"Томмотский БИЦ",1,1,1,null,null,null,null,null,1]
[null,"Итого по РС(Я)",{"$f":"SUM(C7:C44)","v":858},962,641,436,380,169,104,91,185,365]

{"sheet":"т.10","index":16,"n_rows":54,"n_cols":10,"rows_kept":54,"cut":false,"hidden":false,"merged":[[1,0,1,9]]}
[null,null,null,null,null,null,null,null,"Таблица 10"]
["Электронные (сетевые) ресурсы"]
[]
["№","ЦБС","Число","из них","Число","из них","Число","Число","Объем","Объем"]
[null,null,"б-к,","им.","б-к, ","пред.","б-к,","б-к,","ЭК","ЭБ"]
[null,null,"созд.","доступ","им.","док.","им.","им."]
[null,null,"ЭК","к ЭК","ЭБ","в откр.","сетевые","инсталл."]
[null,null,null,"через",null,"доступе","лиценз.","док."]
[null,null,null,"Инт.",null,null,"док."]
[1,"Абыйская",1,1,null,null,null,null,17270]
[2,"Аллаиховская",1,1,null,null,null,null,6987]
[3,"Амгинская",1,1,1,1,1,1,7703,103]
[4,"Анабарская",1,1,1,1,null,null,8391,27]
[5,"Булунская",1,null,null,null,null,null,9410]
[6,"Верхневилюйская",1,1,1,1,1,4,30454,8886]
[7,"Верхнеколымская",1,1,null,null,1,1,5744]
[8,"Верхоянская",1,1,null,null,null,1,34683]
[9,"Вилюйская",1,1,1,1,null,null,24175,209]
[10,"Горная",1,1,1,1,1,1,10300,121]
[11,"Жиганская",1,1,null,null,null,null,10151]
[12,"Кобяйская",1,1,1,1,null,1,23353,115]
[13,"Ленская",1,1,null,null,1,1,21689]
[14,"Момская",1,1,null,null,null,null,2140]
[15,"Намская",1,1,null,null,1,1,24816]
[16,"Нижнеколымская",1,null,null,null,null,1,8288]
[17,"Нюрбинская",1,1,null,null,null,null,8151]
[18,"Оймяконская",1,null,null,null,null,null,9055]
[19,"Олекминская",1,1,1,1,null,1,23245,11506]
[20,"Оленекская",1,1,null,null,null,null,6641]
[21,"Среднеколымская",1,1,null,null,null,null,5475]
[22,"Сунтарская*",1,1,1,1,1,1,25455,201]
[23,"Таттинская",1,1,1,1,1,1,18106,1086]
[24,"Томпонская",1,1,1,1,1,1,7229,2568]
[25,"Усть-Алданская",1,1,1,1,null,1,12526,562]
[26,"Усть-Майская",1,1,null,null,null,1,6640]
[27,"Усть-Янская",1,null,null,null,null,null,15536]
[28,"Хангаласская",1,1,1,1,1,1,41616,1891]
[29,"Чурапчинская",1,1,null,null,null,null,15847]
[30,"Мирнинская",1,1,null,null,1,1,32126]
[31,"Нерюнгринская",1,1,1,1,8,4,64905,3208]
[32,"Эвено-Бытантайская",1,1,null,null,null,null,2920]
[33,"Якутская",1,1,null,null,1,18,177593]
[34,"Алданская",1,1,1,1,1,1,75600,7192]
[35,"Мегино-Кангаласская",1,1,null,null,null,null,32542]
[36,"ГБ г.Нерюнгри ",1,1,null,null,1,1,30739]
[37,"Бердигестях ДБ",null,null,null,null,1]
[38,"Б-ка ГО \"п. Жатай\""]
[39,"Алданский БИЦ"]
[40,"Томмотский БИЦ"]
[null,"Итого по МБ",{"$f":"SUM(C10:C49)","v":36},32,14,14,23,44,{"$f":"SUM(I10:I49)","v":857501},{"$f":"SUM(J10:J47)","v":37675}]
[null,"НБ РС(Я)",1,1,1,1,1,1,737501,64708]
[null,"Филиал НБ \"ДТК\"",1,1,null,null,null,null,55362]
[null,"РБС",1,1,1,1,1,1,33958,22083]
[null,"ВСЕГО ",{"$f":"SUM(C50:C53)","v":39},35,16,16,25,46,1684322,124466]

{"sheet":"т.11","index":17,"n_rows":52,"n_cols":10,"rows_kept":52,"cut":false,"hidden":false,"merged":[[0,7,0,8],[5,8,6,8],[3,9,6,9],[2,0,2,6],[3,3,3,4],[4,3,6,3],[4,4,6,4],[3,5,4,6],[5,5,6,5],[5,6,6,6],[5,7,6,7],[3,7,4,8],[3,1,6,1],[3,0,6,0],[1,0,1,9]]}
[null,null,null,null,null,null,null,"Таблица 11"]
["Информационное обслуживание"]
[]
["№","ЦБС","всего","в том числе",null,"Выполнено справ. и конс.",null,"Число обращений удал. польз. (сайт)",null,"\"+ -\""]
[null,null,"док-ов","МБА,   ММБА, ЭДД","вирт.    чит.     залы"]
[null,null,"из фондов",null,null,"всего","из них в удал. режиме",2020,2021]
[null,null,"др. б-к"]
[1,"Абыйская ",7,7,null,1711,null,null,549,{"$f":"I8-H8","v":549}]
[2,"Аллаиховская ",null,null,null,429,null,64,118,{"$f":"I9-H9","v":54}]
[3,"Амгинская ",13,4,9,4223,1418,5572,9003,3431]
[4,"Анабарская ",null,null,null,866,null,147,8,-139]
[5,"Булунская ",null,null,null,5116,null,6281,883,-5398]
[6,"Верхневилюйская",97,97,null,5510,null,559,5679,5120]
[7,"Верхнеколымская ",null,null,null,6640,1461,8916,31297,22381]
[8,"Верхоянская ",null,null,null,2963,null,null,null,0]
[9,"Вилюйская ",null,null,null,8411,2392,25368,21612,-3756]
[10,"Горная",1308,1308,null,1618,168,4863,3688,-1175]
[11,"Жиганская ",null,null,null,5137,1093,2033,680,-1353]
[12,"Кобяйская ",null,null,null,5019,649,966,4741,3775]
[13,"Ленская ",126,126,null,9445,463,215,1779,1564]
[14,"Момская ",3,3,null,669,null,null,null,0]
[15,"Намская ",65,65,null,4039,null,3398,22487,19089]
[16,"Нижнеколымская ",null,null,null,1281,null,261,536,275]
[17,"Нюрбинская",null,null,null,7809,null,null,null,0]
[18,"Оймяконская ",null,null,null,4586,null,1831,2262,431]
[19,"Олекминская ",21,21,null,12997,953,874,3234,2360]
[20,"Оленекская ",63,63,null,1635,null,956,2628,1672]
[21,"Среднеколымская ",null,null,null,1890,100,1,145,144]
[22,"Сунтарская* ",9,9,null,7336,null,15107,17211,2104]
[23,"Таттинская ",788,784,4,2904,null,124092,94618,-29474]
[24,"Томпонская ",5,1,4,8015,1290,10025,11779,1754]
[25,"Усть-Алданская",3,3,null,23030,null,10726,17073,6347]
[26,"Усть-Майская ",676,676,null,3069,null,7610,6994,-616]
[27,"Усть-Янская ",46,46,null,4950,1060,333,186,-147]
[28,"Хангаласская",296,175,121,9795,91,21626,24888,3262]
[29,"Чурапчинская ",28,28,null,4443,680,15627,43398,27771]
[30,"Мирнинская ",47,47,null,9746,2352,9489,12446,2957]
[31,"Нерюнгринская ",213,null,213,9510,1876,30734,33648,2914]
[32,"Эвено-Бытантай",29,29,null,129,12,null,1036,1036]
[33,"Якутская",195,195,null,37775,12278,197169,453821,256652]
[34,"Алданская",13,2,11,3503,29,478776,362513,-116263]
[35,"Мег.-Кангаласская",107,107,null,3092,222,19090,61850,42760]
[36,"ГБ г.Нерюнгри ",null,null,null,6513,null,2145,9283,7138]
[37,"Бердигестях ДБ",null,null,null,120,51,15788,2799,-12989]
[38,"Б-ка ГО \"п. Жатай\"",1246,null,1246,566,104,620,712,92]
[39,"Алданский БИЦ",null,null,null,323,null,null,186,186]
[40,"Томмотский БИЦ",null,null,null,513,null,null,1314,1314]
[null,"ИТОГО по МБ",{"$f":"SUM(C8:C47)","v":5404},3796,1608,227326,28742,1021262,1267084,245822]
[null,"НБ РС(Я)",17,17,null,44071,25531,751266,881121,129855]
[null,"Филиал НБ \"ДТК\"",null,null,null,279,217,6436,15518,9082]
[null,"РБС",153,153,null,4346,2673,9322,23951,14629]
[null,"Итого по РС(Я)",{"$f":"SUM(C48:C51)","v":5574},3966,1608,276022,57163,{"$f":"SUM(H48:H51)","v":1788286},{"$f":"SUM(I48:I51)","v":2187674},399388]